BEGIN:VCALENDAR
VERSION:2.0
PRODID:ics.py - http://git.io/lLljaA
BEGIN:VEVENT
DTSTART;VALUE=DATE:20260624
DTEND;VALUE=DATE:20260626
DESCRIPTION:Internationale Fachmesse mit Kongress für vorbeugenden Brandschutz\n\nTermin Link: https://www.lfv-bayern.de/termine/feuertrutz/
LOCATION:Nürnberg
SUMMARY:FeuerTrutz
UID:fff06035-0bfb-48bf-8b18-00f18605ab63@fff0.org
END:VEVENT
END:VCALENDAR