BEGIN:VCALENDAR
VERSION:2.0
PRODID:ics.py - http://git.io/lLljaA
BEGIN:VEVENT
DESCRIPTION:Ehrenamtsausschreibung 2024 der Versicherungskammer Stiftung\n\nTermin Link: https://www.lfv-bayern.de/termine/ehrenamtspreis-2024/
DTEND:20240715T215900Z
LOCATION:OnlineVoting bis 15.07.2024
DTSTART:20240625T112416Z
SUMMARY:Ehrenamtspreis 2024
UID:6d663d7f-f353-4c04-861e-26c4d861c003@6d66.org
END:VEVENT
END:VCALENDAR