BEGIN:VCALENDAR
VERSION:2.0
PRODID:ics.py - http://git.io/lLljaA
BEGIN:VEVENT
DESCRIPTION:Online-Seminar der Deutschen Stiftung für Engagement und Ehrenamt\n\nTermin Link: https://www.lfv-bayern.de/termine/dseeerklart-social-media-reicht-weiter-als-gedacht-erfolgsmessung-in-der-kommunikation/
DTEND:20260610T151500Z
LOCATION:online
DTSTART:20260610T140000Z
SUMMARY:#DSEEerklärt Social Media: Reicht weiter als gedacht - Erfolgsmessung in der Kommunikation
UID:ba54751b-6382-4b8d-bef4-90b7104d27c7@ba54.org
END:VEVENT
END:VCALENDAR