BEGIN:VCALENDAR
VERSION:2.0
PRODID:ics.py - http://git.io/lLljaA
BEGIN:VEVENT
DESCRIPTION:Online-Seminar der Deutschen Stiftung für Engagement und Ehrenamt\n\nTermin Link: https://www.lfv-bayern.de/termine/dseeerklart-social-media-mehr-wissen-als-ahnen-redaktionsplanung-fur-social-media/
DTEND:20260609T151500Z
LOCATION:online
DTSTART:20260609T140000Z
SUMMARY:#DSEEerklärt Social Media: Mehr wissen als ahnen - Redaktionsplanung für Social Media
UID:768db30a-a41f-4fc4-9bda-2eee5d9247d2@768d.org
END:VEVENT
END:VCALENDAR