BEGIN:VCALENDAR
VERSION:2.0
PRODID:ics.py - http://git.io/lLljaA
BEGIN:VEVENT
DESCRIPTION:Online-Seminar der Deutschen Stiftung für Engagement und Ehrenamt\n\nTermin Link: https://www.lfv-bayern.de/termine/dseeerklart-rechtlich-sicher-im-verein-vorher-ist-man-schlauer-arbeitssicherheit-im-verein/
DTEND:20260624T161500Z
LOCATION:online
DTSTART:20260624T150000Z
SUMMARY:#DSEEerklärt Rechtlich sicher im Verein: Vorher ist man schlauer – Arbeitssicherheit im Verein
UID:c9faa1ab-53e4-41c8-abbc-6b4c06831350@c9fa.org
END:VEVENT
END:VCALENDAR