BEGIN:VCALENDAR
VERSION:2.0
PRODID:ics.py - http://git.io/lLljaA
BEGIN:VEVENT
DESCRIPTION:Online-Seminar der Deutschen Stiftung für Engagement und Ehrenamt\n\nTermin Link: https://www.lfv-bayern.de/termine/dseeerklart-rechtlich-sicher-im-verein-engagiert-aber-sicher-gesetzlicher-unfallschutz-im-ehrenamt/
DTEND:20260623T161500Z
LOCATION:online
DTSTART:20260623T150000Z
SUMMARY:#DSEEerklärt Rechtlich sicher im Verein: Engagiert\, aber sicher – Gesetzlicher Unfallschutz im Ehrenamt
UID:a18528c3-32bd-469c-8a7c-c5fd0e1851f8@a185.org
END:VEVENT
END:VCALENDAR