BEGIN:VCALENDAR
VERSION:2.0
PRODID:ics.py - http://git.io/lLljaA
BEGIN:VEVENT
DESCRIPTION:Online-Seminar der Deutschen Stiftung für Engagement und Ehrenamt\n\nTermin Link: https://www.lfv-bayern.de/termine/dseeerklart-projektmanagement-ohne-stress-zum-ziel-projekte-im-verein-clever-managen/
DTEND:20260519T161500Z
LOCATION:online
DTSTART:20260519T150000Z
SUMMARY:#DSEEerklärt Projektmanagement: Ohne Stress zum Ziel - Projekte im Verein clever managen
UID:cc08d56b-bbab-4102-a920-80d431c081c5@cc08.org
END:VEVENT
END:VCALENDAR