BEGIN:VCALENDAR
VERSION:2.0
PRODID:ics.py - http://git.io/lLljaA
BEGIN:VEVENT
DESCRIPTION:Online-Seminar der Deutschen Stiftung für Engagement und Ehrenamt\n\nTermin Link: https://www.lfv-bayern.de/termine/dseeerklart-projektmanagement-agil-denken-gemeinsam-handeln-im-team-erfolgreich-arbeiten/
DTEND:20260520T161500Z
LOCATION:online
DTSTART:20260520T150000Z
SUMMARY:#DSEEerklärt Projektmanagement: Agil denken\, gemeinsam handeln - Im Team erfolgreich arbeiten
UID:77eb7987-0705-49c8-bec2-8f57569d6210@77eb.org
END:VEVENT
END:VCALENDAR