BEGIN:VCALENDAR
VERSION:2.0
PRODID:ics.py - http://git.io/lLljaA
BEGIN:VEVENT
DESCRIPTION:Online-Seminar der Deutschen Stiftung für Engagement und Ehrenamt\n\nTermin Link: https://www.lfv-bayern.de/termine/dseeerklart-gute-zusammenarbeit-teamarbeit-ist-gut-mit-vertrauen-besser-gute-zusammenarbeit-fordern/
DTEND:20260506T161500Z
LOCATION:online
DTSTART:20260506T150000Z
SUMMARY:#DSEEerklärt Gute Zusammenarbeit: Teamarbeit ist gut\, mit Vertrauen besser - gute Zusammenarbeit fördern
UID:6b76b7f5-0b1f-444d-bda4-5096a1d33140@6b76.org
END:VEVENT
END:VCALENDAR