BEGIN:VCALENDAR
VERSION:2.0
PRODID:ics.py - http://git.io/lLljaA
BEGIN:VEVENT
DESCRIPTION:Online-Seminar der Deutschen Stiftung für Engagement und Ehrenamt\n\nTermin Link: https://www.lfv-bayern.de/termine/dseeerklart-gute-zusammenarbeit-miteinander-statt-gegeneinander-konflikte-gemeinsam-losen/
DTEND:20260505T161500Z
LOCATION:online
DTSTART:20260505T150000Z
SUMMARY:#DSEEerklärt Gute Zusammenarbeit: Miteinander statt Gegeneinander - Konflikte gemeinsam lösen
UID:f7c1788d-bee1-4ca6-8950-3ca012f8e09e@f7c1.org
END:VEVENT
END:VCALENDAR