BEGIN:VCALENDAR
VERSION:2.0
PRODID:ics.py - http://git.io/lLljaA
BEGIN:VEVENT
DESCRIPTION:Thema „Künstliche Intelligenz (KI): Verstehen\, Nutzen erkennen und anwenden“\n\nTermin Link: https://www.lfv-bayern.de/termine/digital-vereint-online-workshop-april-2026/
DTEND:20260428T180000Z
LOCATION:online
DTSTART:20260428T160000Z
SUMMARY:Digital Verein(t) - Online Workshop
UID:ab28b812-cc20-4b5f-bb0c-0d08ce1303e2@ab28.org
END:VEVENT
END:VCALENDAR