BEGIN:VCALENDAR
VERSION:2.0
PRODID:ics.py - http://git.io/lLljaA
BEGIN:VEVENT
DESCRIPTION:Online-Veranstaltungsreihe der Mobilen Beratung gegen Rechtsextremismus in Bayern\n\nTermin Link: https://www.lfv-bayern.de/termine/die-mosaik-rechte-auf-dem-weg-zur-macht-die-extreme-rechte-nach-der-kommunalwahl/
DTEND:20260505T180000Z
LOCATION:online
DTSTART:20260505T170000Z
SUMMARY:Die Mosaik-Rechte auf dem Weg zur Macht? Die extreme Rechte nach der Kommunalwahl
UID:a6f49c42-946e-4182-8d65-528d7c6df6d1@a6f4.org
END:VEVENT
END:VCALENDAR