BEGIN:VCALENDAR
VERSION:2.0
PRODID:ics.py - http://git.io/lLljaA
BEGIN:VEVENT
DESCRIPTION:Vortrag der Online-Reihe „Insights“ der Landeskoordinierungsstelle Bayern gegen Rechtsextremismus (LKS)\n\nTermin Link: https://www.lfv-bayern.de/termine/desinformation-und-extreme-rechte-strategien-und-akteurinnen/
DTEND:20260427T150000Z
LOCATION:online
DTSTART:20260427T130000Z
SUMMARY:Desinformation und extreme Rechte: Strategien und Akteur:innen
UID:1a36efd2-ca0c-4ecc-9a97-00695021fae0@1a36.org
END:VEVENT
END:VCALENDAR