BEGIN:VCALENDAR
VERSION:2.0
PRODID:ics.py - http://git.io/lLljaA
BEGIN:VEVENT
DESCRIPTION:Fortbildungsangebot des Landesnetzwerks Bürgerschaftliches Engagement Bayern (LBE)\n\nTermin Link: https://www.lfv-bayern.de/termine/buchhaltung-im-verein-grundlagen-verstehen-26/
DTEND:20260504T173000Z
LOCATION:online
DTSTART:20260504T160000Z
SUMMARY:Buchhaltung im Verein – Grundlagen verstehen
UID:a587a301-19c6-4712-b333-f3d3cb026823@a587.org
END:VEVENT
END:VCALENDAR