BEGIN:VCALENDAR
VERSION:2.0
PRODID:ics.py - http://git.io/lLljaA
BEGIN:VEVENT
DTSTART;VALUE=DATE:20261010
DESCRIPTION:Atemschutzleistungsbewerb in Niederbayern\n\nTermin Link: https://www.lfv-bayern.de/termine/aslb-bronzesilber-1026/
SUMMARY:ASLB Bronze/Silber
UID:84f125d1-c2b3-41ab-85de-7aac5c813a63@84f1.org
END:VEVENT
END:VCALENDAR