BEGIN:VCALENDAR
VERSION:2.0
PRODID:ics.py - http://git.io/lLljaA
BEGIN:VEVENT
DTSTART;VALUE=DATE:20260425
DESCRIPTION:Atemschutzleistungsbewerb in Niederbayern\n\nTermin Link: https://www.lfv-bayern.de/termine/aslb-bronzesilber-0426/
LOCATION:Freiwillige Feuerwehr Abensberg\nAn den Sandwellen 2\, 93326 Abensberg\, Deutschland
SUMMARY:ASLB Bronze/Silber
UID:a130ccaf-01e3-4db2-a2e3-bdfc2aca6c9c@a130.org
END:VEVENT
END:VCALENDAR