BEGIN:VCALENDAR
VERSION:2.0
PRODID:ics.py - http://git.io/lLljaA
BEGIN:VEVENT
DESCRIPTION:AOK Parcours Tour – powered by Mental Health Rocks® macht am 03.05.2026 Station in Moosburg\n\nTermin Link: https://www.lfv-bayern.de/termine/aok-parcours-tour-1-moosburg/
DTEND:20260503T110000Z
LOCATION:Moosburg an der Isar
DTSTART:20260503T080000Z
SUMMARY:AOK Parcours Tour - #1 Moosburg
UID:3ffd1ec2-6af8-433e-9e86-49b0b9aabe7e@3ffd.org
END:VEVENT
END:VCALENDAR