BEGIN:VCALENDAR
VERSION:2.0
PRODID:ics.py - http://git.io/lLljaA
BEGIN:VEVENT
DESCRIPTION:Der 23. Leistungsmarsch im Regierungsbezirk Oberfranken findet am 20. Juni 2026 im Landkreis Bamberg statt. Ausrichter ist die Freiwillige Feuerwehr Walsdorf.\n\nTermin Link: https://www.lfv-bayern.de/termine/23-leistungsmarsch-in-oberfranken/
DTEND:20260620T170000Z
LOCATION:Freiwillige Feuerwehr Walsdorf\nBachstraße 10\, 96194 Walsdorf\, Deutschland
DTSTART:20260620T070000Z
SUMMARY:23. Leistungsmarsch in Oberfranken
UID:cd9d883e-a145-47bb-ae15-9d0b44b3f8a2@cd9d.org
END:VEVENT
END:VCALENDAR