BEGIN:VCALENDAR
VERSION:2.0
PRODID:ics.py - http://git.io/lLljaA
BEGIN:VEVENT
DTSTART;VALUE=DATE:20260618
DTEND;VALUE=DATE:20260622
DESCRIPTION:Gründungsfest\n\nTermin Link: https://www.lfv-bayern.de/termine/150-jahre-freiwillige-feuerwehr-pauluszell/
LOCATION:Freiwillige Feuerwehr Pauluszell\nWeiherer Straße 13\, 84189 Wurmsham\, Deutschland
SUMMARY:150 Jahre Freiwillige Feuerwehr Pauluszell
UID:742beab0-ed74-4012-9058-09462c087288@742b.org
END:VEVENT
END:VCALENDAR