BEGIN:VCALENDAR
VERSION:2.0
PRODID:ics.py - http://git.io/lLljaA
BEGIN:VEVENT
DTSTART;VALUE=DATE:20280526
DTEND;VALUE=DATE:20280529
DESCRIPTION:SAVE THE DATE\n\nTermin Link: https://www.lfv-bayern.de/termine/150-jahre-freiwillige-feuerwehr-kemnath-am-buchberg/
LOCATION:Kemnath am Buchberg (Lkr. Amberg-Sulzbach)
SUMMARY:150 Jahre Freiwillige Feuerwehr Kemnath am Buchberg
UID:4f3b5e5e-018e-42c2-8f75-a90690b64132@4f3b.org
END:VEVENT
END:VCALENDAR