BEGIN:VCALENDAR
VERSION:2.0
PRODID:ics.py - http://git.io/lLljaA
BEGIN:VEVENT
DTSTART;VALUE=DATE:20280519
DTEND;VALUE=DATE:20280526
DESCRIPTION:Gründungsfest\n\nTermin Link: https://www.lfv-bayern.de/termine/125-jahre-freiwillige-feuerwehr-reithofen-harthofen/
LOCATION:Freiwillige Feuerwehr Reithofen-Harthofen\nMoosanger 20\, 85669 Pastetten\, Deutschland
SUMMARY:125 Jahre Freiwillige Feuerwehr Reithofen-Harthofen
UID:d6cde48a-95a4-46b4-a0b9-e8421b6e3925@d6cd.org
END:VEVENT
END:VCALENDAR