BEGIN:VCALENDAR
VERSION:2.0
PRODID:ics.py - http://git.io/lLljaA
BEGIN:VEVENT
DTSTART;VALUE=DATE:20240509
DESCRIPTION:am 09.05.2024 in Sulzberg im Allgäu unter der Schirmherrschaft vom Vorsitzenden des Landesfeuerwehrverbands Bayern Johann Eitzenberger | Anmeldeschluss für Fahrzeuge 01.April 2024\n\nTermin Link: https://www.lfv-bayern.de/termine/1-bayerisches-landesfeuerwehr-oldtimertreffen/
LOCATION:Sulzberg im Allgäu
SUMMARY:1. Bayerisches Landesfeuerwehr-Oldtimertreffen
UID:a3d242d7-e972-4d12-ac68-6d00e2c80a85@a3d2.org
END:VEVENT
END:VCALENDAR